BEGIN:VCALENDAR
VERSION:2.0
PRODID:-//Vicki Myhren Gallery - ECPv6.10.2//NONSGML v1.0//EN
CALSCALE:GREGORIAN
METHOD:PUBLISH
X-ORIGINAL-URL:https://vicki-myhren-gallery.du.edu
X-WR-CALDESC:Events for Vicki Myhren Gallery
REFRESH-INTERVAL;VALUE=DURATION:PT1H
X-Robots-Tag:noindex
X-PUBLISHED-TTL:PT1H
BEGIN:VTIMEZONE
TZID:America/Denver
BEGIN:DAYLIGHT
TZOFFSETFROM:-0700
TZOFFSETTO:-0600
TZNAME:MDT
DTSTART:20200308T090000
END:DAYLIGHT
BEGIN:STANDARD
TZOFFSETFROM:-0600
TZOFFSETTO:-0700
TZNAME:MST
DTSTART:20201101T080000
END:STANDARD
END:VTIMEZONE
BEGIN:VEVENT
DTSTART;TZID=America/Denver:20200116T170000
DTEND;TZID=America/Denver:20200116T200000
DTSTAMP:20260423T012528
CREATED:20200106T193811Z
LAST-MODIFIED:20200106T193811Z
UID:7853-1579194000-1579204800@vicki-myhren-gallery.du.edu
SUMMARY:The Art Happens Here Opening
DESCRIPTION:Come hang out at the Vicki Myhren Gallery for its winter exhibition opening of “The Art Happens Here.” \nSnacks and drinks included!
URL:https://vicki-myhren-gallery.du.edu/event/the-art-happens-here-opening/
LOCATION:Vicki Myhren Gallery\, 2121 E Asbury Ave\, Denver\, CO\, 80210\, United States
END:VEVENT
END:VCALENDAR