BEGIN:VCALENDAR
VERSION:2.0
PRODID:-//Vicki Myhren Gallery - ECPv6.10.2//NONSGML v1.0//EN
CALSCALE:GREGORIAN
METHOD:PUBLISH
X-WR-CALNAME:Vicki Myhren Gallery
X-ORIGINAL-URL:https://vicki-myhren-gallery.du.edu
X-WR-CALDESC:Events for Vicki Myhren Gallery
REFRESH-INTERVAL;VALUE=DURATION:PT1H
X-Robots-Tag:noindex
X-PUBLISHED-TTL:PT1H
BEGIN:VTIMEZONE
TZID:America/Denver
BEGIN:DAYLIGHT
TZOFFSETFROM:-0700
TZOFFSETTO:-0600
TZNAME:MDT
DTSTART:20200308T090000
END:DAYLIGHT
BEGIN:STANDARD
TZOFFSETFROM:-0600
TZOFFSETTO:-0700
TZNAME:MST
DTSTART:20201101T080000
END:STANDARD
END:VTIMEZONE
BEGIN:VEVENT
DTSTART;TZID=America/Denver:20200415T080000
DTEND;TZID=America/Denver:20200501T170000
DTSTAMP:20260422T212944
CREATED:20200415T183520Z
LAST-MODIFIED:20200415T183859Z
UID:15298-1586937600-1588352400@vicki-myhren-gallery.du.edu
SUMMARY:Gallery Closed
DESCRIPTION:
URL:https://vicki-myhren-gallery.du.edu/event/gallery-closed/
LOCATION:Colorado
END:VEVENT
END:VCALENDAR