BEGIN:VCALENDAR
VERSION:2.0
PRODID:-//Vicki Myhren Gallery - ECPv6.10.2//NONSGML v1.0//EN
CALSCALE:GREGORIAN
METHOD:PUBLISH
X-ORIGINAL-URL:https://vicki-myhren-gallery.du.edu
X-WR-CALDESC:Events for Vicki Myhren Gallery
REFRESH-INTERVAL;VALUE=DURATION:PT1H
X-Robots-Tag:noindex
X-PUBLISHED-TTL:PT1H
BEGIN:VTIMEZONE
TZID:America/Denver
BEGIN:DAYLIGHT
TZOFFSETFROM:-0700
TZOFFSETTO:-0600
TZNAME:MDT
DTSTART:20200308T090000
END:DAYLIGHT
BEGIN:STANDARD
TZOFFSETFROM:-0600
TZOFFSETTO:-0700
TZNAME:MST
DTSTART:20201101T080000
END:STANDARD
END:VTIMEZONE
BEGIN:VEVENT
DTSTART;TZID=America/Denver:20200326T080000
DTEND;TZID=America/Denver:20200410T170000
DTSTAMP:20260422T224038
CREATED:20200326T200802Z
LAST-MODIFIED:20200326T200802Z
UID:15255-1585209600-1586538000@vicki-myhren-gallery.du.edu
SUMMARY:Gallery closed due to COVID-19
DESCRIPTION:The gallery is closed from now until April 10\, 2020 due to COVID-19. \nWe hope that everyone is staying safe and healthy during this outbreak \nand we hope to see everyone soon!
URL:https://vicki-myhren-gallery.du.edu/event/gallery-closed-due-to-covid-19/
LOCATION:Vicki Myhren Gallery\, 2121 E Asbury Ave\, Denver\, CO\, 80210\, United States
END:VEVENT
END:VCALENDAR