BEGIN:VCALENDAR
VERSION:2.0
PRODID:-//Vicki Myhren Gallery - ECPv6.10.2//NONSGML v1.0//EN
CALSCALE:GREGORIAN
METHOD:PUBLISH
X-ORIGINAL-URL:https://vicki-myhren-gallery.du.edu
X-WR-CALDESC:Events for Vicki Myhren Gallery
REFRESH-INTERVAL;VALUE=DURATION:PT1H
X-Robots-Tag:noindex
X-PUBLISHED-TTL:PT1H
BEGIN:VTIMEZONE
TZID:America/Denver
BEGIN:DAYLIGHT
TZOFFSETFROM:-0700
TZOFFSETTO:-0600
TZNAME:MDT
DTSTART:20200308T090000
END:DAYLIGHT
BEGIN:STANDARD
TZOFFSETFROM:-0600
TZOFFSETTO:-0700
TZNAME:MST
DTSTART:20201101T080000
END:STANDARD
END:VTIMEZONE
BEGIN:VEVENT
DTSTART;TZID=America/Denver:20200211T180000
DTEND;TZID=America/Denver:20200211T200000
DTSTAMP:20260423T011822
CREATED:20200210T202955Z
LAST-MODIFIED:20200210T202955Z
UID:15172-1581444000-1581451200@vicki-myhren-gallery.du.edu
SUMMARY:Artist Lecture
DESCRIPTION:
URL:https://vicki-myhren-gallery.du.edu/event/artist-lecture/
LOCATION:Vicki Myhren Gallery\, 2121 E Asbury Ave\, Denver\, CO\, 80210\, United States
END:VEVENT
END:VCALENDAR